Workbook

Sheet Home
B2: Welcome to the shared haemodialysis care data spreadsheets!
B4: When entering data:
B5: - Along the bottom of the Excel sheet is a series of tabs. Select the tab relating to your unit.
B6: - If adding a new patient, complete the appropriate columns as fully as you can. Do not input anything into columns Z onwards.
B7: - Patient fully competent at a particular task = 1
B8: - Patient is only partially competent or not at all competent = 0
B9: - The colour of each cell will change depending on whether a 1 or 0 is entered.
B10: - The competency dates need not be completely accurate, only as accurate as possible.
B11: - If you don't know the exact date, make an estimate. If you only know the month, enter the first day of that month.
B12: - e.g. December 2022 could be entered as 01/12/22, or as Dec-22
B13: - Every patient who has a competency must have a corresponding competency date, e.g. every patient with competency level 3 must have dates for levels 1, 2, and 3.
B14: - Be sure to update columns for patients who have been transplanted, moved to PD, moved out of area, or who have died.
... B24: - This will pool data from the summary tabs to automatically calculate an overall picture of our shared care numbers, dates, and stage of competency.

Sheet EG
F1: Stage 1 Competencies | J1: Stage 2 Competency | L1: Stage 3 Competencies | O1: Stage 4 Competency | Q1: Stage 5 Competencies | V1: Optional Extra Info
A2: First Name | B2: Surname | C2: MRN | D2: Date stopped SHC | E2: Reason Stopped SHC (Transplanted, RIP, Moved etc) | F2: Measuring weight | G2: BP | H2: Washing hands | I2: Date Stage 1 Competent | J2: Preparing dressing pack | K2: Date Stage 2 Competent | L2: Lining the machine | M2: Priming | N2: Date Stage 3 Competent | O2: Programming the machine | P2: Date Stage 4 Competent | Q2: Needling | R2: Preparing tesio line | S2: Connecting to the machine | T2: Disconnecting and completing HD | U2: Date Stage 5 Competent | V2: Giving Epo injections | W2: Caring during HD (responding to alarms) | X2: Applying pressure to needle site | Y2: Interested in dialysing at home? | Z2: Current Stage of Shared Care | AA2: Current Stage of Shared Care Error Check Version | AB2: Last Recorded Competency Date | AC2: Status - in or out | AD2: Left Program | AE2: Last Recorded Date Before Exit | AF2: Highest competency before leaving
A3: EXAMPLE | B3: One | D3: 45658 | E3: Transplanted | F3: 1 | G3: 1 | H3: 0 | J3: 0 | L3: 0 | M3: 0 | O3: 0 | Q3: 0 | S3: 0 | T3: 0 | V3: 0 | W3: 1 | X3: 1 | Y3: No | Z3: {=_xlfn.IFS(OR($D3<>""),0,AND($S3=1,$T3=1,OR($R3=1,$Q3=1)),5,$O3=1,4,AND($L3=1,$M3=1),3,$J3=1,2,AND($F3=1,$G3=1,$H3=1),1)} -> 0 | AA3: =IF(ISNA(Z3),0,Z3) -> 0 | AB3: =MAX(I3,K3,N3,P3,U3) -> 0 | AC3: =IF(AA3=0,1,0) -> 1 | AD3: =IF(COUNTBLANK(D3)=0,"Left","") -> Left | AE3: =IF(AD3="Left",AB3,"") -> 0 | AF3: {=IF(AE3<>"",IF(I3<>"",_xlfn.IFS(I3=AE3,1,K3=AE3,2,N3=AE3,3,P3=AE3,4,U3=AE3,5),"None"),"N/A")} -> None
A4: EXAMPLE | B4: Two | F4: 1 | G4: 1 | H4: 1 | I4: 45658 | J4: 1 | K4: 45677 | L4: 1 | M4: 1 | N4: 45719 | O4: 1 | P4: 45721 | Q4: 1 | R4: n/a | S4: 1 | T4: 1 | U4: 45726 | V4: 0 | W4: 1 | X4: 1 | Y4: Yes | Z4: {=_xlfn.IFS(OR($D4<>""),0,AND($S4=1,$T4=1,OR($R4=1,$Q4=1)),5,$O4=1,4,AND($L4=1,$M4=1),3,$J4=1,2,AND($F4=1,$G4=1,$H4=1),1)} -> 5 | AA4: =IF(ISNA(Z4),0,Z4) -> 5 | AB4: =MAX(I4,K4,N4,P4,U4) -> 45726 | AC4: =IF(AA4=0,1,0) -> 0 | AD4: =IF(COUNTBLANK(D4)=0,"Left","") | AE4: =IF(AD4="Left",AB4,"") | AF4: {=IF(AE4<>"",IF(I4<>"",_xlfn.IFS(I4=AE4,1,K4=AE4,2,N4=AE4,3,P4=AE4,4,U4=AE4,5),"None"),"N/A")} -> N/A
A5: EXAMPLE | B5: Three | F5: 1 | G5: 1 | H5: 1 | I5: 45659 | J5: 0 | L5: 0 | M5: 0 | O5: 0 | Q5: 0 | R5: n/a | S5: 0 | T5: 0 | V5: 0 | W5: 0 | X5: 1 | Y5: No | Z5: {=_xlfn.IFS(OR($D5<>""),0,AND($S5=1,$T5=1,OR($R5=1,$Q5=1)),5,$O5=1,4,AND($L5=1,$M5=1),3,$J5=1,2,AND($F5=1,$G5=1,$H5=1),1)} -> 1 | AA5: =IF(ISNA(Z5),0,Z5) -> 1 | AB5: =MAX(I5,K5,N5,P5,U5) -> 45659 | AC5: =IF(AA5=0,1,0) -> 0 | AD5: =IF(COUNTBLANK(D5)=0,"Left","") | AE5: =IF(AD5="Left",AB5,"") | AF5: {=IF(AE5<>"",IF(I5<>"",_xlfn.IFS(I5=AE5,1,K5=AE5,2,N5=AE5,3,P5=AE5,4,U5=AE5,5),"None"),"N/A")} -> N/A
A6: EXAMPLE | B6: Four | F6: 0 | G6: 1 | H6: 1 | I6: 45660 | J6: 1 | K6: 45719 | L6: 0 | M6: 0 | O6: 0 | Q6: n/a | R6: 0 | S6: 0 | T6: 0 | V6: 0 | W6: 1 | X6: n/a | Y6: No | Z6: {=_xlfn.IFS(OR($D6<>""),0,AND($S6=1,$T6=1,OR($R6=1,$Q6=1)),5,$O6=1,4,AND($L6=1,$M6=1),3,$J6=1,2,AND($F6=1,$G6=1,$H6=1),1)} -> 2 | AA6: =IF(ISNA(Z6),0,Z6) -> 2 | AB6: =MAX(I6,K6,N6,P6,U6) -> 45719 | AC6: =IF(AA6=0,1,0) -> 0 | AD6: =IF(COUNTBLANK(D6)=0,"Left","") | AE6: =IF(AD6="Left",AB6,"") | AF6: {=IF(AE6<>"",IF(I6<>"",_xlfn.IFS(I6=AE6,1,K6=AE6,2,N6=AE6,3,P6=AE6,4,U6=AE6,5),"None"),"N/A")} -> N/A
A7: EXAMPLE | B7: Five | D7: 45747 | E7: Moved | F7: 1 | G7: 1 | H7: 1 | I7: 45661 | J7: 1 | K7: 45690 | L7: 1 | M7: 1 | N7: 45719 | O7: 1 | P7: 45720 | Q7: 0 | R7: n/a | S7: 0 | T7: 0 | V7: 0 | W7: 1 | X7: 1 | Y7: No | Z7: {=_xlfn.IFS(OR($D7<>""),0,AND($S7=1,$T7=1,OR($R7=1,$Q7=1)),5,$O7=1,4,AND($L7=1,$M7=1),3,$J7=1,2,AND($F7=1,$G7=1,$H7=1),1)} -> 0 | AA7: =IF(ISNA(Z7),0,Z7) -> 0 | AB7: =MAX(I7,K7,N7,P7,U7) -> 45720 | AC7: =IF(AA7=0,1,0) -> 1 | AD7: =IF(COUNTBLANK(D7)=0,"Left","") -> Left | AE7: =IF(AD7="Left",AB7,"") -> 45720 | AF7: {=IF(AE7<>"",IF(I7<>"",_xlfn.IFS(I7=AE7,1,K7=AE7,2,N7=AE7,3,P7=AE7,4,U7=AE7,5),"None"),"N/A")} -> 4
A8: EXAMPLE | B8: Six | F8: 0 | G8: 0 | H8: 0 | J8: 0 | L8: 0 | M8: 0 | O8: 0 | Q8: 0 | R8: 0 | S8: 0 | T8: 0 | Y8: No | Z8: {=_xlfn.IFS(OR($D8<>""),0,AND($S8=1,$T8=1,OR($R8=1,$Q8=1)),5,$O8=1,4,AND($L8=1,$M8=1),3,$J8=1,2,AND($F8=1,$G8=1,$H8=1),1)} -> #N/A | AA8: =IF(ISNA(Z8),0,Z8) -> 0 | AB8: =MAX(I8,K8,N8,P8,U8) -> 0 | AC8: =IF(AA8=0,1,0) -> 1 | AD8: =IF(COUNTBLANK(D8)=0,"Left","") | AE8: =IF(AD8="Left",AB8,"") | AF8: {=IF(AE8<>"",IF(I8<>"",_xlfn.IFS(I8=AE8,1,K8=AE8,2,N8=AE8,3,P8=AE8,4,U8=AE8,5),"None"),"N/A")} -> N/A
A9: EXAMPLE | B9: Seven | F9: 1 | G9: 1 | H9: 1 | I9: 45667 | J9: 0 | L9: 0 | M9: 0 | O9: 0 | R9: 0 | S9: 0 | T9: 0 | V9: 0 | W9: 0 | Y9: No | Z9: {=_xlfn.IFS(OR($D9<>""),0,AND($S9=1,$T9=1,OR($R9=1,$Q9=1)),5,$O9=1,4,AND($L9=1,$M9=1),3,$J9=1,2,AND($F9=1,$G9=1,$H9=1),1)} -> 1 | AA9: =IF(ISNA(Z9),0,Z9) -> 1 | AB9: =MAX(I9,K9,N9,P9,U9) -> 45667 | AC9: =IF(AA9=0,1,0) -> 0 | AD9: =IF(COUNTBLANK(D9)=0,"Left","") | AE9: =IF(AD9="Left",AB9,"") | AF9: {=IF(AE9<>"",IF(I9<>"",_xlfn.IFS(I9=AE9,1,K9=AE9,2,N9=AE9,3,P9=AE9,4,U9=AE9,5),"None"),"N/A")} -> N/A
A10: EXAMPLE | B10: Eight | F10: 1 | G10: 1 | H10: 0 | I10: 45699 | J10: 0 | L10: 0 | M10: 0 | O10: 0 | R10: 0 | S10: 0 | T10: 0 | V10: 0 | W10: 0 | Y10: Maybe | Z10: {=_xlfn.IFS(OR($D10<>""),0,AND($S10=1,$T10=1,OR($R10=1,$Q10=1)),5,$O10=1,4,AND($L10=1,$M10=1),3,$J10=1,2,AND($F10=1,$G10=1,$H10=1),1)} -> #N/A | AA10: =IF(ISNA(Z10),0,Z10) -> 0 | AB10: =MAX(I10,K10,N10,P10,U10) -> 45699 | AC10: =IF(AA10=0,1,0) -> 1 | AD10: =IF(COUNTBLANK(D10)=0,"Left","") | AE10: =IF(AD10="Left",AB10,"") | AF10: {=IF(AE10<>"",IF(I10<>"",_xlfn.IFS(I10=AE10,1,K10=AE10,2,N10=AE10,3,P10=AE10,4,U10=AE10,5),"None"),"N/A")} -> N/A
A11: EXAMPLE | B11: Nine | F11: 1 | G11: 0 | H11: 1 | I11: 45708 | J11: 0 | L11: 0 | M11: 0 | O11: 0 | Q11: 0 | R11: n/a | S11: 0 | T11: 0 | V11: 0 | W11: 0 | X11: 1 | Y11: No | Z11: {=_xlfn.IFS(OR($D11<>""),0,AND($S11=1,$T11=1,OR($R11=1,$Q11=1)),5,$O11=1,4,AND($L11=1,$M11=1),3,$J11=1,2,AND($F11=1,$G11=1,$H11=1),1)} -> #N/A | AA11: =IF(ISNA(Z11),0,Z11) -> 0 | AB11: =MAX(I11,K11,N11,P11,U11) -> 45708 | AC11: =IF(AA11=0,1,0) -> 1 | AD11: =IF(COUNTBLANK(D11)=0,"Left","") | AE11: =IF(AD11="Left",AB11,"") | AF11: {=IF(AE11<>"",IF(I11<>"",_xlfn.IFS(I11=AE11,1,K11=AE11,2,N11=AE11,3,P11=AE11,4,U11=AE11,5),"None"),"N/A")} -> N/A
A12: EXAMPLE | B12: Ten | F12: 1 | G12: 1 | H12: 1 | I12: 45719 | J12: 1 | K12: 45720 | L12: 1 | M12: 1 | N12: 45721 | O12: 0 | Q12: 0 | R12: 0 | S12: 0 | T12: 0 | V12: 0 | W12: 1 | X12: 1 | Y12: No | Z12: {=_xlfn.IFS(OR($D12<>""),0,AND($S12=1,$T12=1,OR($R12=1,$Q12=1)),5,$O12=1,4,AND($L12=1,$M12=1),3,$J12=1,2,AND($F12=1,$G12=1,$H12=1),1)} -> 3 | AA12: =IF(ISNA(Z12),0,Z12) -> 3 | AB12: =MAX(I12,K12,N12,P12,U12) -> 45721 | AC12: =IF(AA12=0,1,0) -> 0 | AD12: =IF(COUNTBLANK(D12)=0,"Left","") | AE12: =IF(AD12="Left",AB12,"") | AF12: {=IF(AE12<>"",IF(I12<>"",_xlfn.IFS(I12=AE12,1,K12=AE12,2,N12=AE12,3,P12=AE12,4,U12=AE12,5),"None"),"N/A")} -> N/A

Sheet EG Summary
B3: Year | C3: Month | D3: Month End Date | E3: Stage 1 | F3: Stage 2 | G3: Stage 3 | H3: Stage 4 | I3: Stage 5 | J3: Cumulative Total
B4: 2025 | C4: January | D4: 45688 | E4: =COUNTIFS(EG!$I:$I,"<="&$D4,EG!$K:$K,"",EG!$N:$N,"",EG!$P:$P,"",EG!$U:$U,"")-COUNTIFS(EG!$D:$D,">0",EG!$D:$D,"<="&$D4,EG!$AF:$AF,"=1") -> 2 | F4: =COUNTIFS(EG!$K:$K,"<="&$D4,EG!$N:$N,"",EG!$P:$P,"",EG!$U:$U,"")-COUNTIFS(EG!$D:$D,">0",EG!$D:$D,"<="&$D4,EG!$AF:$AF,"=2") -> 0 | G4: =COUNTIFS(EG!$N:$N,"<="&$D4,EG!$P:$P,"",EG!$U:$U,"")-COUNTIFS(EG!$D:$D,">0",EG!$D:$D,"<="&$D4,EG!$AF:$AF,"=3") -> 0 | H4: =COUNTIFS(EG!$P:$P,"<="&$D4,EG!$U:$U,"")-COUNTIFS(EG!$D:$D,">0",EG!$D:$D,"<="&$D4,EG!$AF:$AF,"=4") -> 0 | I4: =COUNTIFS(EG!$U:$U,"<="&$D4)-COUNTIFS(EG!$D:$D,">0",EG!$D:$D,"<="&$D4,EG!$AF:$AF,"=5") -> 0 | J4: =SUM(E4:I4) -> 2
C5: February | D5: 45716 | E5: =COUNTIFS(EG!$I:$I,"<="&$D5,EG!$K:$K,"",EG!$N:$N,"",EG!$P:$P,"",EG!$U:$U,"")-COUNTIFS(EG!$D:$D,">0",EG!$D:$D,"<="&$D5,EG!$AF:$AF,"=1") -> 4 | F5: =COUNTIFS(EG!$K:$K,"<="&$D5,EG!$N:$N,"",EG!$P:$P,"",EG!$U:$U,"")-COUNTIFS(EG!$D:$D,">0",EG!$D:$D,"<="&$D5,EG!$AF:$AF,"=2") -> 0 | G5: =COUNTIFS(EG!$N:$N,"<="&$D5,EG!$P:$P,"",EG!$U:$U,"")-COUNTIFS(EG!$D:$D,">0",EG!$D:$D,"<="&$D5,EG!$AF:$AF,"=3") -> 0 | H5: =COUNTIFS(EG!$P:$P,"<="&$D5,EG!$U:$U,"")-COUNTIFS(EG!$D:$D,">0",EG!$D:$D,"<="&$D5,EG!$AF:$AF,"=4") -> 0 | I5: =COUNTIFS(EG!$U:$U,"<="&$D5)-COUNTIFS(EG!$D:$D,">0",EG!$D:$D,"<="&$D5,EG!$AF:$AF,"=5") -> 0 | J5: =SUM(E5:I5) -> 4
C6: March | D6: 45747 | E6: =COUNTIFS(EG!$I:$I,"<="&$D6,EG!$K:$K,"",EG!$N:$N,"",EG!$P:$P,"",EG!$U:$U,"")-COUNTIFS(EG!$D:$D,">0",EG!$D:$D,"<="&$D6,EG!$AF:$AF,"=1") -> 4 | F6: =COUNTIFS(EG!$K:$K,"<="&$D6,EG!$N:$N,"",EG!$P:$P,"",EG!$U:$U,"")-COUNTIFS(EG!$D:$D,">0",EG!$D:$D,"<="&$D6,EG!$AF:$AF,"=2") -> 1 | G6: =COUNTIFS(EG!$N:$N,"<="&$D6,EG!$P:$P,"",EG!$U:$U,"")-COUNTIFS(EG!$D:$D,">0",EG!$D:$D,"<="&$D6,EG!$AF:$AF,"=3") -> 1 | H6: =COUNTIFS(EG!$P:$P,"<="&$D6,EG!$U:$U,"")-COUNTIFS(EG!$D:$D,">0",EG!$D:$D,"<="&$D6,EG!$AF:$AF,"=4") -> 0 | I6: =COUNTIFS(EG!$U:$U,"<="&$D6)-COUNTIFS(EG!$D:$D,">0",EG!$D:$D,"<="&$D6,EG!$AF:$AF,"=5") -> 1 | J6: =SUM(E6:I6) -> 7
C7: April | D7: 45777 | E7: =COUNTIFS(EG!$I:$I,"<="&$D7,EG!$K:$K,"",EG!$N:$N,"",EG!$P:$P,"",EG!$U:$U,"")-COUNTIFS(EG!$D:$D,">0",EG!$D:$D,"<="&$D7,EG!$AF:$AF,"=1") -> 4 | F7: =COUNTIFS(EG!$K:$K,"<="&$D7,EG!$N:$N,"",EG!$P:$P,"",EG!$U:$U,"")-COUNTIFS(EG!$D:$D,">0",EG!$D:$D,"<="&$D7,EG!$AF:$AF,"=2") -> 1 | G7: =COUNTIFS(EG!$N:$N,"<="&$D7,EG!$P:$P,"",EG!$U:$U,"")-COUNTIFS(EG!$D:$D,">0",EG!$D:$D,"<="&$D7,EG!$AF:$AF,"=3") -> 1 | H7: =COUNTIFS(EG!$P:$P,"<="&$D7,EG!$U:$U,"")-COUNTIFS(EG!$D:$D,">0",EG!$D:$D,"<="&$D7,EG!$AF:$AF,"=4") -> 0 | I7: =COUNTIFS(EG!$U:$U,"<="&$D7)-COUNTIFS(EG!$D:$D,">0",EG!$D:$D,"<="&$D7,EG!$AF:$AF,"=5") -> 1 | J7: =SUM(E7:I7) -> 7
C8: May | D8: 45808 | E8: =COUNTIFS(EG!$I:$I,"<="&$D8,EG!$K:$K,"",EG!$N:$N,"",EG!$P:$P,"",EG!$U:$U,"")-COUNTIFS(EG!$D:$D,">0",EG!$D:$D,"<="&$D8,EG!$AF:$AF,"=1") -> 4 | F8: =COUNTIFS(EG!$K:$K,"<="&$D8,EG!$N:$N,"",EG!$P:$P,"",EG!$U:$U,"")-COUNTIFS(EG!$D:$D,">0",EG!$D:$D,"<="&$D8,EG!$AF:$AF,"=2") -> 1 | G8: =COUNTIFS(EG!$N:$N,"<="&$D8,EG!$P:$P,"",EG!$U:$U,"")-COUNTIFS(EG!$D:$D,">0",EG!$D:$D,"<="&$D8,EG!$AF:$AF,"=3") -> 1 | H8: =COUNTIFS(EG!$P:$P,"<="&$D8,EG!$U:$U,"")-COUNTIFS(EG!$D:$D,">0",EG!$D:$D,"<="&$D8,EG!$AF:$AF,"=4") -> 0 | I8: =COUNTIFS(EG!$U:$U,"<="&$D8)-COUNTIFS(EG!$D:$D,">0",EG!$D:$D,"<="&$D8,EG!$AF:$AF,"=5") -> 1 | J8: =SUM(E8:I8) -> 7
C9: June | D9: 45838 | E9: =COUNTIFS(EG!$I:$I,"<="&$D9,EG!$K:$K,"",EG!$N:$N,"",EG!$P:$P,"",EG!$U:$U,"")-COUNTIFS(EG!$D:$D,">0",EG!$D:$D,"<="&$D9,EG!$AF:$AF,"=1") -> 4 | F9: =COUNTIFS(EG!$K:$K,"<="&$D9,EG!$N:$N,"",EG!$P:$P,"",EG!$U:$U,"")-COUNTIFS(EG!$D:$D,">0",EG!$D:$D,"<="&$D9,EG!$AF:$AF,"=2") -> 1 | G9: =COUNTIFS(EG!$N:$N,"<="&$D9,EG!$P:$P,"",EG!$U:$U,"")-COUNTIFS(EG!$D:$D,">0",EG!$D:$D,"<="&$D9,EG!$AF:$AF,"=3") -> 1 | H9: =COUNTIFS(EG!$P:$P,"<="&$D9,EG!$U:$U,"")-COUNTIFS(EG!$D:$D,">0",EG!$D:$D,"<="&$D9,EG!$AF:$AF,"=4") -> 0 | I9: =COUNTIFS(EG!$U:$U,"<="&$D9)-COUNTIFS(EG!$D:$D,">0",EG!$D:$D,"<="&$D9,EG!$AF:$AF,"=5") -> 1 | J9: =SUM(E9:I9) -> 7
C10: July | D10: 45869 | E10: =COUNTIFS(EG!$I:$I,"<="&$D10,EG!$K:$K,"",EG!$N:$N,"",EG!$P:$P,"",EG!$U:$U,"")-COUNTIFS(EG!$D:$D,">0",EG!$D:$D,"<="&$D10,EG!$AF:$AF,"=1") -> 4 | F10: =COUNTIFS(EG!$K:$K,"<="&$D10,EG!$N:$N,"",EG!$P:$P,"",EG!$U:$U,"")-COUNTIFS(EG!$D:$D,">0",EG!$D:$D,"<="&$D10,EG!$AF:$AF,"=2") -> 1 | G10: =COUNTIFS(EG!$N:$N,"<="&$D10,EG!$P:$P,"",EG!$U:$U,"")-COUNTIFS(EG!$D:$D,">0",EG!$D:$D,"<="&$D10,EG!$AF:$AF,"=3") -> 1 | H10: =COUNTIFS(EG!$P:$P,"<="&$D10,EG!$U:$U,"")-COUNTIFS(EG!$D:$D,">0",EG!$D:$D,"<="&$D10,EG!$AF:$AF,"=4") -> 0 | I10: =COUNTIFS(EG!$U:$U,"<="&$D10)-COUNTIFS(EG!$D:$D,">0",EG!$D:$D,"<="&$D10,EG!$AF:$AF,"=5") -> 1 | J10: =SUM(E10:I10) -> 7
C11: August | D11: 45900 | E11: =COUNTIFS(EG!$I:$I,"<="&$D11,EG!$K:$K,"",EG!$N:$N,"",EG!$P:$P,"",EG!$U:$U,"")-COUNTIFS(EG!$D:$D,">0",EG!$D:$D,"<="&$D11,EG!$AF:$AF,"=1") -> 4 | F11: =COUNTIFS(EG!$K:$K,"<="&$D11,EG!$N:$N,"",EG!$P:$P,"",EG!$U:$U,"")-COUNTIFS(EG!$D:$D,">0",EG!$D:$D,"<="&$D11,EG!$AF:$AF,"=2") -> 1 | G11: =COUNTIFS(EG!$N:$N,"<="&$D11,EG!$P:$P,"",EG!$U:$U,"")-COUNTIFS(EG!$D:$D,">0",EG!$D:$D,"<="&$D11,EG!$AF:$AF,"=3") -> 1 | H11: =COUNTIFS(EG!$P:$P,"<="&$D11,EG!$U:$U,"")-COUNTIFS(EG!$D:$D,">0",EG!$D:$D,"<="&$D11,EG!$AF:$AF,"=4") -> 0 | I11: =COUNTIFS(EG!$U:$U,"<="&$D11)-COUNTIFS(EG!$D:$D,">0",EG!$D:$D,"<="&$D11,EG!$AF:$AF,"=5") -> 1 | J11: =SUM(E11:I11) -> 7
C12: September | D12: 45930 | E12: =COUNTIFS(EG!$I:$I,"<="&$D12,EG!$K:$K,"",EG!$N:$N,"",EG!$P:$P,"",EG!$U:$U,"")-COUNTIFS(EG!$D:$D,">0",EG!$D:$D,"<="&$D12,EG!$AF:$AF,"=1") -> 4 | F12: =COUNTIFS(EG!$K:$K,"<="&$D12,EG!$N:$N,"",EG!$P:$P,"",EG!$U:$U,"")-COUNTIFS(EG!$D:$D,">0",EG!$D:$D,"<="&$D12,EG!$AF:$AF,"=2") -> 1 | G12: =COUNTIFS(EG!$N:$N,"<="&$D12,EG!$P:$P,"",EG!$U:$U,"")-COUNTIFS(EG!$D:$D,">0",EG!$D:$D,"<="&$D12,EG!$AF:$AF,"=3") -> 1 | H12: =COUNTIFS(EG!$P:$P,"<="&$D12,EG!$U:$U,"")-COUNTIFS(EG!$D:$D,">0",EG!$D:$D,"<="&$D12,EG!$AF:$AF,"=4") -> 0 | I12: =COUNTIFS(EG!$U:$U,"<="&$D12)-COUNTIFS(EG!$D:$D,">0",EG!$D:$D,"<="&$D12,EG!$AF:$AF,"=5") -> 1 | J12: =SUM(E12:I12) -> 7
C13: October | D13: 45961 | E13: =COUNTIFS(EG!$I:$I,"<="&$D13,EG!$K:$K,"",EG!$N:$N,"",EG!$P:$P,"",EG!$U:$U,"")-COUNTIFS(EG!$D:$D,">0",EG!$D:$D,"<="&$D13,EG!$AF:$AF,"=1") -> 4 | F13: =COUNTIFS(EG!$K:$K,"<="&$D13,EG!$N:$N,"",EG!$P:$P,"",EG!$U:$U,"")-COUNTIFS(EG!$D:$D,">0",EG!$D:$D,"<="&$D13,EG!$AF:$AF,"=2") -> 1 | G13: =COUNTIFS(EG!$N:$N,"<="&$D13,EG!$P:$P,"",EG!$U:$U,"")-COUNTIFS(EG!$D:$D,">0",EG!$D:$D,"<="&$D13,EG!$AF:$AF,"=3") -> 1 | H13: =COUNTIFS(EG!$P:$P,"<="&$D13,EG!$U:$U,"")-COUNTIFS(EG!$D:$D,">0",EG!$D:$D,"<="&$D13,EG!$AF:$AF,"=4") -> 0 | I13: =COUNTIFS(EG!$U:$U,"<="&$D13)-COUNTIFS(EG!$D:$D,">0",EG!$D:$D,"<="&$D13,EG!$AF:$AF,"=5") -> 1 | J13: =SUM(E13:I13) -> 7
C14: November | D14: 45991 | E14: =COUNTIFS(EG!$I:$I,"<="&$D14,EG!$K:$K,"",EG!$N:$N,"",EG!$P:$P,"",EG!$U:$U,"")-COUNTIFS(EG!$D:$D,">0",EG!$D:$D,"<="&$D14,EG!$AF:$AF,"=1") -> 4 | F14: =COUNTIFS(EG!$K:$K,"<="&$D14,EG!$N:$N,"",EG!$P:$P,"",EG!$U:$U,"")-COUNTIFS(EG!$D:$D,">0",EG!$D:$D,"<="&$D14,EG!$AF:$AF,"=2") -> 1 | G14: =COUNTIFS(EG!$N:$N,"<="&$D14,EG!$P:$P,"",EG!$U:$U,"")-COUNTIFS(EG!$D:$D,">0",EG!$D:$D,"<="&$D14,EG!$AF:$AF,"=3") -> 1 | H14: =COUNTIFS(EG!$P:$P,"<="&$D14,EG!$U:$U,"")-COUNTIFS(EG!$D:$D,">0",EG!$D:$D,"<="&$D14,EG!$AF:$AF,"=4") -> 0 | I14: =COUNTIFS(EG!$U:$U,"<="&$D14)-COUNTIFS(EG!$D:$D,">0",EG!$D:$D,"<="&$D14,EG!$AF:$AF,"=5") -> 1 | J14: =SUM(E14:I14) -> 7
C15: December | D15: 46022 | E15: =COUNTIFS(EG!$I:$I,"<="&$D15,EG!$K:$K,"",EG!$N:$N,"",EG!$P:$P,"",EG!$U:$U,"")-COUNTIFS(EG!$D:$D,">0",EG!$D:$D,"<="&$D15,EG!$AF:$AF,"=1") -> 4 | F15: =COUNTIFS(EG!$K:$K,"<="&$D15,EG!$N:$N,"",EG!$P:$P,"",EG!$U:$U,"")-COUNTIFS(EG!$D:$D,">0",EG!$D:$D,"<="&$D15,EG!$AF:$AF,"=2") -> 1 | G15: =COUNTIFS(EG!$N:$N,"<="&$D15,EG!$P:$P,"",EG!$U:$U,"")-COUNTIFS(EG!$D:$D,">0",EG!$D:$D,"<="&$D15,EG!$AF:$AF,"=3") -> 1 | H15: =COUNTIFS(EG!$P:$P,"<="&$D15,EG!$U:$U,"")-COUNTIFS(EG!$D:$D,">0",EG!$D:$D,"<="&$D15,EG!$AF:$AF,"=4") -> 0 | I15: =COUNTIFS(EG!$U:$U,"<="&$D15)-COUNTIFS(EG!$D:$D,">0",EG!$D:$D,"<="&$D15,EG!$AF:$AF,"=5") -> 1 | J15: =SUM(E15:I15) -> 7
