Workbook
Name Slicer_Group: #N/A

Sheet Intro
A1: RADAR Data Dictionary v1.2 | E1: =I2 -> (All)
H2: Group | I2: (All)
E4: export file | F4: description | G4: # of rows | H4: Page | I4: Sum of Weight
E5: =IF(ISBLANK(H5),"",HYPERLINK("#"&"tables_fields"&"!A" & VLOOKUP(H5,nav_target!$B$1:$C$54,2,FALSE), H5)) -> alport_clinical_pictures | F5: =IF(ISBLANK(H5),"",VLOOKUP(H5,definitions!$A$2:$B$51,2,FALSE)) -> alport_clinical_pictures | H5: alport_clinical_pictures | I5: 13
E6: =IF(ISBLANK(H6),"",HYPERLINK("#"&"tables_fields"&"!A" & VLOOKUP(H6,nav_target!$B$1:$C$54,2,FALSE), H6)) -> fuan_clinical_pictures | F6: =IF(ISBLANK(H6),"",VLOOKUP(H6,definitions!$A$2:$B$51,2,FALSE)) -> fuan_clinical_pictures | H6: fuan_clinical_pictures | I6: 18
E7: =IF(ISBLANK(H7),"",HYPERLINK("#"&"tables_fields"&"!A" & VLOOKUP(H7,nav_target!$B$1:$C$54,2,FALSE), H7)) -> hnf1b_clinical_pictures | F7: =IF(ISBLANK(H7),"",VLOOKUP(H7,definitions!$A$2:$B$51,2,FALSE)) -> clinical pictures | H7: hnf1b_clinical_pictures | I7: 19
E8: =IF(ISBLANK(H8),"",HYPERLINK("#"&"tables_fields"&"!A" & VLOOKUP(H8,nav_target!$B$1:$C$54,2,FALSE), H8)) -> ins_clinical_pictures | F8: =IF(ISBLANK(H8),"",VLOOKUP(H8,definitions!$A$2:$B$51,2,FALSE)) -> clinical pictures | H8: ins_clinical_pictures | I8: 21
E9: =IF(ISBLANK(H9),"",HYPERLINK("#"&"tables_fields"&"!A" & VLOOKUP(H9,nav_target!$B$1:$C$54,2,FALSE), H9)) -> liver_diseases | F9: =IF(ISBLANK(H9),"",VLOOKUP(H9,definitions!$A$2:$B$51,2,FALSE)) -> recording of liver diseases | H9: liver_diseases | I9: 23
E10: =IF(ISBLANK(H10),"",HYPERLINK("#"&"tables_fields"&"!A" & VLOOKUP(H10,nav_target!$B$1:$C$54,2,FALSE), H10)) -> patients | F10: =IF(ISBLANK(H10),"",VLOOKUP(H10,definitions!$A$2:$B$51,2,FALSE)) -> recruitment details, ethnicity, gender | H10: patients | I10: 25
E11: =IF(ISBLANK(H11),"",HYPERLINK("#"&"tables_fields"&"!A" & VLOOKUP(H11,nav_target!$B$1:$C$54,2,FALSE), H11)) -> mpgn_clinical_pictures | F11: =IF(ISBLANK(H11),"",VLOOKUP(H11,definitions!$A$2:$B$51,2,FALSE)) -> mpgn_clinical_pictures | H11: mpgn_clinical_pictures | I11: 26
E12: =IF(ISBLANK(H12),"",HYPERLINK("#"&"tables_fields"&"!A" & VLOOKUP(H12,nav_target!$B$1:$C$54,2,FALSE), H12)) -> pregnancies | F12: =IF(ISBLANK(H12),"",VLOOKUP(H12,definitions!$A$2:$B$51,2,FALSE)) -> pregnancies | H12: pregnancies | I12: 30
E13: =IF(ISBLANK(H13),"",HYPERLINK("#"&"tables_fields"&"!A" & VLOOKUP(H13,nav_target!$B$1:$C$54,2,FALSE), H13)) -> fetal_anomaly_scans | F13: =IF(ISBLANK(H13),"",VLOOKUP(H13,definitions!$A$2:$B$51,2,FALSE)) -> fetal anomaly scans | H13: fetal_anomaly_scans | I13: 32
E14: =IF(ISBLANK(H14),"",HYPERLINK("#"&"tables_fields"&"!A" & VLOOKUP(H14,nav_target!$B$1:$C$54,2,FALSE), H14)) -> salt_wasting_clinical_features | F14: =IF(ISBLANK(H14),"",VLOOKUP(H14,definitions!$A$2:$B$51,2,FALSE)) -> clinical features for Tubulopathy patients | H14: salt_wasting_clinical_features | I14: 33
E15: =IF(ISBLANK(H15),"",HYPERLINK("#"&"tables_fields"&"!A" & VLOOKUP(H15,nav_target!$B$1:$C$54,2,FALSE), H15)) -> fetal_ultrasounds | F15: =IF(ISBLANK(H15),"",VLOOKUP(H15,definitions!$A$2:$B$51,2,FALSE)) -> fetal ultrasounds | H15: fetal_ultrasounds | I15: 34
E16: =IF(ISBLANK(H16),"",HYPERLINK("#"&"tables_fields"&"!A" & VLOOKUP(H16,nav_target!$B$1:$C$54,2,FALSE), H16)) -> clinical_picture_igna | F16: =IF(ISBLANK(H16),"",VLOOKUP(H16,definitions!$A$2:$B$51,2,FALSE)) -> Clinical Picture -IGA N | H16: clinical_picture_igna | I16: 35
... E37: =IF(ISBLANK(H37),"",HYPERLINK("#"&"tables_fields"&"!A" & VLOOKUP(H37,nav_target!$B$1:$C$54,2,FALSE), H37)) -> transplants | F37: =IF(ISBLANK(H37),"",VLOOKUP(H37,definitions!$A$2:$B$51,2,FALSE)) -> transplants | H37: transplants | I37: 646
E38: =IF(ISBLANK(H38),"",HYPERLINK("#"&"tables_fields"&"!A" & VLOOKUP(H38,nav_target!$B$1:$C$54,2,FALSE), H38)) | F38: =IF(ISBLANK(H38),"",VLOOKUP(H38,definitions!$A$2:$B$51,2,FALSE))
E39: =IF(ISBLANK(H39),"",HYPERLINK("#"&"tables_fields"&"!A" & VLOOKUP(H39,nav_target!$B$1:$C$54,2,FALSE), H39)) | F39: =IF(ISBLANK(H39),"",VLOOKUP(H39,definitions!$A$2:$B$51,2,FALSE))
E40: =IF(ISBLANK(H40),"",HYPERLINK("#"&"tables_fields"&"!A" & VLOOKUP(H40,nav_target!$B$1:$C$54,2,FALSE), H40)) | F40: =IF(ISBLANK(H40),"",VLOOKUP(H40,definitions!$A$2:$B$51,2,FALSE))
E41: =IF(ISBLANK(H41),"",HYPERLINK("#"&"tables_fields"&"!A" & VLOOKUP(H41,nav_target!$B$1:$C$54,2,FALSE), H41)) | F41: =IF(ISBLANK(H41),"",VLOOKUP(H41,definitions!$A$2:$B$51,2,FALSE))
E42: =IF(ISBLANK(H42),"",HYPERLINK("#"&"tables_fields"&"!A" & VLOOKUP(H42,nav_target!$B$1:$C$54,2,FALSE), H42)) | F42: =IF(ISBLANK(H42),"",VLOOKUP(H42,definitions!$A$2:$B$51,2,FALSE))
E43: =IF(ISBLANK(H43),"",HYPERLINK("#"&"tables_fields"&"!A" & VLOOKUP(H43,nav_target!$B$1:$C$54,2,FALSE), H43)) | F43: =IF(ISBLANK(H43),"",VLOOKUP(H43,definitions!$A$2:$B$51,2,FALSE))
E44: =IF(ISBLANK(H44),"",HYPERLINK("#"&"tables_fields"&"!A" & VLOOKUP(H44,nav_target!$B$1:$C$54,2,FALSE), H44)) | F44: =IF(ISBLANK(H44),"",VLOOKUP(H44,definitions!$A$2:$B$51,2,FALSE))
E45: =IF(ISBLANK(H45),"",HYPERLINK("#"&"tables_fields"&"!A" & VLOOKUP(H45,nav_target!$B$1:$C$54,2,FALSE), H45)) | F45: =IF(ISBLANK(H45),"",VLOOKUP(H45,definitions!$A$2:$B$51,2,FALSE))
E46: =IF(ISBLANK(H46),"",HYPERLINK("#"&"tables_fields"&"!A" & VLOOKUP(H46,nav_target!$B$1:$C$54,2,FALSE), H46)) | F46: =IF(ISBLANK(H46),"",VLOOKUP(H46,definitions!$A$2:$B$51,2,FALSE))
E47: =IF(ISBLANK(H47),"",HYPERLINK("#"&"tables_fields"&"!A" & VLOOKUP(H47,nav_target!$B$1:$C$54,2,FALSE), H47)) | F47: =IF(ISBLANK(H47),"",VLOOKUP(H47,definitions!$A$2:$B$51,2,FALSE))
E48: =IF(ISBLANK(H48),"",HYPERLINK("#"&"tables_fields"&"!A" & VLOOKUP(H48,nav_target!$B$1:$C$54,2,FALSE), H48)) | F48: =IF(ISBLANK(H48),"",VLOOKUP(H48,definitions!$A$2:$B$51,2,FALSE))
E49: =IF(ISBLANK(H49),"",HYPERLINK("#"&"tables_fields"&"!A" & VLOOKUP(H49,nav_target!$B$1:$C$54,2,FALSE), H49)) | F49: =IF(ISBLANK(H49),"",VLOOKUP(H49,definitions!$A$2:$B$51,2,FALSE))
E50: =IF(ISBLANK(H50),"",HYPERLINK("#"&"tables_fields"&"!A" & VLOOKUP(H50,nav_target!$B$1:$C$54,2,FALSE), H50)) | F50: =IF(ISBLANK(H50),"",VLOOKUP(H50,definitions!$A$2:$B$51,2,FALSE))
E51: =IF(ISBLANK(H51),"",HYPERLINK("#"&"tables_fields"&"!A" & VLOOKUP(H51,nav_target!$B$1:$C$53,2,FALSE), H51)) | F51: =IF(ISBLANK(H51),"",VLOOKUP(H51,definitions!$A$2:$B$51,2,FALSE))
E52: =IF(ISBLANK(H52),"",HYPERLINK("#"&"tables_fields"&"!A" & VLOOKUP(H52,nav_target!$B$1:$C$53,2,FALSE), H52)) | F52: =IF(ISBLANK(H52),"",VLOOKUP(H52,definitions!$A$2:$B$51,2,FALSE))
E53: =IF(ISBLANK(H53),"",HYPERLINK("#"&"tables_fields"&"!A" & VLOOKUP(H53,nav_target!$B$1:$C$53,2,FALSE), H53)) | F53: =IF(ISBLANK(H53),"",VLOOKUP(H53,definitions!$A$2:$B$51,2,FALSE))
E54: =IF(ISBLANK(H54),"",HYPERLINK("#"&"tables_fields"&"!A" & VLOOKUP(H54,nav_target!$B$1:$C$53,2,FALSE), H54)) | F54: =IF(ISBLANK(H54),"",VLOOKUP(H54,definitions!$A$2:$B$51,2,FALSE))
E55: =IF(ISBLANK(H55),"",HYPERLINK("#"&"tables_fields"&"!A" & VLOOKUP(H55,nav_target!$B$1:$C$53,2,FALSE), H55))

Sheet Codelist Navigation
A1: <<<Return to Intro | C1: Codelist Navigation
A2: <<<Return to tables_fields
B3: diagnosis | C3: =HYPERLINK("#"&"Lookups"&"!A" & VLOOKUP(B3,nav_target!$K$4:$L$16,2,FALSE), B3) -> diagnosis
B4: Dialysis | C4: =HYPERLINK("#"&"Lookups"&"!A" & VLOOKUP(B4,nav_target!$K$4:$L$16,2,FALSE), B4) -> Dialysis
B5: drugs | C5: =HYPERLINK("#"&"Lookups"&"!A" & VLOOKUP(B5,nav_target!$K$4:$L$16,2,FALSE), B5) -> drugs
B6: eq-5d-5l | C6: =HYPERLINK("#"&"Lookups"&"!A" & VLOOKUP(B6,nav_target!$K$4:$L$16,2,FALSE), B6) -> eq-5d-5l
B7: eq-5d-y | C7: =HYPERLINK("#"&"Lookups"&"!A" & VLOOKUP(B7,nav_target!$K$4:$L$16,2,FALSE), B7) -> eq-5d-y
B8: family-history | C8: =HYPERLINK("#"&"Lookups"&"!A" & VLOOKUP(B8,nav_target!$K$4:$L$16,2,FALSE), B8) -> family-history
B9: genetics | C9: =HYPERLINK("#"&"Lookups"&"!A" & VLOOKUP(B9,nav_target!$K$4:$L$16,2,FALSE), B9) -> genetics
B10: Group | C10: =HYPERLINK("#"&"Lookups"&"!A" & VLOOKUP(B10,nav_target!$K$4:$L$16,2,FALSE), B10) -> Group
B11: ins_relapses | C11: =HYPERLINK("#"&"Lookups"&"!A" & VLOOKUP(B11,nav_target!$K$4:$L$16,2,FALSE), B11) -> ins_relapses
B12: ipos | C12: =HYPERLINK("#"&"Lookups"&"!A" & VLOOKUP(B12,nav_target!$K$4:$L$16,2,FALSE), B12) -> ipos
B13: patient_demographics | C13: =HYPERLINK("#"&"Lookups"&"!A" & VLOOKUP(B13,nav_target!$K$4:$L$16,2,FALSE), B13) -> patient_demographics
B14: plasmapheresis | C14: =HYPERLINK("#"&"Lookups"&"!A" & VLOOKUP(B14,nav_target!$K$4:$L$16,2,FALSE), B14) -> plasmapheresis
B15: Transplants | C15: =HYPERLINK("#"&"Lookups"&"!A" & VLOOKUP(B15,nav_target!$K$4:$L$16,2,FALSE), B15) -> Transplants

Sheet tables_fields
A1: <<<Return to Intro
A2: # | B2: Export Table | C2: Variable name | D2: data type | E2: Description1 | F2: Description2
A3: 1 | B3: patients | C3: patient_id | D3: integer | E3: Unique patient radar identifier
A4: 2 | B4: patients | C4: patient_number | D4: character varying | E4: patient_number
A5: 3 | B5: patients | C5: first_name | D5: character varying | E5: first_name
A6: 4 | B6: patients | C6: last_name | D6: character varying | E6: last_name
A7: 5 | B7: patients | C7: date_of_birth | D7: date | E7: date_of_birth
A8: 6 | B8: patients | C8: year_of_birth | D8: integer | E8: year_of_birth
A9: 7 | B9: patients | C9: date_of_death | D9: date | E9: date_of_death
A10: 8 | B10: patients | C10: year_of_death | D10: integer | E10: year_of_death
A11: 9 | B11: patients | C11: available_gender | D11: integer | E11: Id of gender | F11: 1="male";2="female"; 9="Not specified"
A12: 10 | B12: patients | C12: available_gender_label | D12: character varying | E12: Label of gender | F12: 1="male";2="female"; 9="Not specified"
A13: 11 | B13: patients | C13: available_ethnicity | D13: character varying | E13: available_ethnicity
A14: 12 | B14: patients | C14: patient_view | D14: boolean | E14: Link to patient_view data
A15: 13 | B15: patients | C15: control | D15: boolean | E15: control
A16: 14 | B16: patients | C16: signed_off_state | D16: integer | E16: signed_off_state
A17: 15 | B17: patients | C17: recruited_date | D17: date | E17: recruited_date | F17: Entered onto RADAR
A18: 16 | B18: patients | C18: recruited_group_id | D18: integer | E18: recruited_group_id | F18: Lookup group.hospital and group.system | G18: Codelist Navigation
A19: 17 | B19: patients | C19: recruited_group | D19: character varying | E19: recruited_group | F19: Lookup group.hospital and group.system | G19: Codelist Navigation
A20: 18 | B20: patients | C20: recruited_user_id | D20: integer | E20: recruited_user_id
A21: 19 | B21: patients | C21: recruited_user | D21: character varying | E21: recruited_user
A22: 20 | B22: primary-diagnoses | C22: id | D22: uuid | E22: Unique ID of data item
A23: 21 | B23: primary-diagnoses | C23: patient_id | D23: integer | E23: Unique patient radar identifier
A24: 22 | B24: primary-diagnoses | C24: source_group_id | D24: integer | E24: ID of group where data originated from | F24: Lookup group.hospital and group.system | G24: Codelist Navigation
A25: 23 | B25: primary-diagnoses | C25: source_group | D25: character varying | E25: Label of ID of group where data originated from | F25: Lookup group.hospital and group.system | G25: Codelist Navigation
A26: 24 | B26: primary-diagnoses | C26: source_type | D26: character varying | E26: source_type | F26: RADAR or UKRDC
A27: 25 | B27: primary-diagnoses | C27: era-edta prd | D27: character varying | E27: European Registry on renal replacement Primary Renal Disease (PRD) coding
A28: 26 | B28: primary-diagnoses | C28: icd-10 | D28: character varying | E28: icd-10 code
A29: 27 | B29: primary-diagnoses | C29: snomed ct | D29: character varying | E29: snomed ct code
A30: 28 | B30: primary-diagnoses | C30: diagnosis | D30: character varying | E30: Diagnosis
A31: 29 | B31: primary-diagnoses | C31: diagnosis_text | D31: character varying | E31: Additional diagnosis information
A32: 30 | B32: primary-diagnoses | C32: symptoms_date | D32: date | E32: symptoms date
A33: 31 | B33: primary-diagnoses | C33: symptoms_age_years | D33: integer | E33: Age in years at symptoms date
A34: 32 | B34: primary-diagnoses | C34: symptoms_age_months | D34: integer | E34: Age in months at symptoms date
A35: 33 | B35: primary-diagnoses | C35: from_date | D35: date | E35: Diagnosis date
A36: 34 | B36: primary-diagnoses | C36: from_age_years | D36: integer | E36: Age in years at diagnosis date
A37: 35 | B37: primary-diagnoses | C37: from_age_months | D37: integer | E37: Age in months at diagnosis date
A38: 36 | B38: primary-diagnoses | C38: to_date | D38: date | E38: to_date
... A45: 43 | B45: primary-diagnoses | C45: biopsy | D45: boolean | E45: diagnosis confirmed by biopsy (biopsy details in pathology table)
A46: 44 | B46: primary-diagnoses | C46: biopsy_diagnosis | D46: integer | E46: Id of biopsy diagnosis | F46: Lookup diagnosis.[biopsy diagnosis] | G46: Codelist Navigation
A47: 45 | B47: primary-diagnoses | C47: biopsy_diagnosis_label | D47: character varying | E47: Label of Id of biopsy diagnosis | F47: Lookup diagnosis.[biopsy diagnosis] | G47: Codelist Navigation
A48: 46 | B48: primary-diagnoses | C48: comments | D48: character varying | E48: Comments
A49: 47 | B49: primary-diagnoses | C49: created_date | D49: timestamp with time zone | E49: Date record created
A50: 48 | B50: primary-diagnoses | C50: created_user_id | D50: integer | E50: ID of User that created record
A51: 49 | B51: primary-diagnoses | C51: created_user | D51: character varying | E51: Label ID of User that created record
A52: 50 | B52: primary-diagnoses | C52: modified_date | D52: timestamp with time zone | E52: Date record last modified
A53: 51 | B53: primary-diagnoses | C53: modified_user_id | D53: integer | E53: ID of User that last modified record
A54: 52 | B54: primary-diagnoses | C54: modified_user | D54: character varying | E54: Label of ID of User that last modified record
A55: 53 | B55: comorbidities | C55: id | D55: uuid | E55: Unique ID of data item
A56: 54 | B56: comorbidities | C56: patient_id | D56: integer | E56: Unique patient radar identifier
A57: 55 | B57: comorbidities | C57: source_group_id | D57: integer | E57: ID of group where data originated from | F57: Lookup group.hospital and group.system | G57: Codelist Navigation
A58: 56 | B58: comorbidities | C58: source_group | D58: character varying | E58: Label of ID of group where data originated from | F58: Lookup group.hospital and group.system | G58: Codelist Navigation
A59: 57 | B59: comorbidities | C59: source_type | D59: character varying | E59: source_type | F59: RADAR or UKRDC
A60: 58 | B60: comorbidities | C60: era-edta prd | D60: character varying | E60: European Registry on renal replacement Primary Renal Disease (PRD) coding
A61: 59 | B61: comorbidities | C61: icd-10 | D61: character varying | E61: icd-10 code
A62: 60 | B62: comorbidities | C62: snomed ct | D62: character varying | E62: snomed ct code
A63: 61 | B63: comorbidities | C63: diagnosis | D63: character varying | E63: Diagnosis
A64: 62 | B64: comorbidities | C64: diagnosis_text | D64: character varying | E64: diagnosis_text
A65: 63 | B65: comorbidities | C65: symptoms_date | D65: date | E65: symptoms date
A66: 64 | B66: comorbidities | C66: symptoms_age_years | D66: integer | E66: Age in years at symptoms date
A67: 65 | B67: comorbidities | C67: symptoms_age_months | D67: integer | E67: Age in months at symptoms date
A68: 66 | B68: comorbidities | C68: from_date | D68: date | E68: Diagnosis date
A69: 67 | B69: comorbidities | C69: from_age_years | D69: integer | E69: Age in years at diagnosis date
A70: 68 | B70: comorbidities | C70: from_age_months | D70: integer | E70: Age in months at diagnosis date
A71: 69 | B71: comorbidities | C71: to_date | D71: date | E71: to_date
... A78: 76 | B78: comorbidities | C78: biopsy | D78: boolean | E78: diagnosis confirmed by biopsy (biopsy details in pathology table)
A79: 77 | B79: comorbidities | C79: biopsy_diagnosis | D79: integer | E79: Id of biopsy diagnosis | F79: Lookup diagnosis.[biopsy diagnosis] | G79: Codelist Navigation
A80: 78 | B80: comorbidities | C80: biopsy_diagnosis_label | D80: character varying | E80: Label of Id of biopsy diagnosis | F80: Lookup diagnosis.[biopsy diagnosis] | G80: Codelist Navigation
A81: 79 | B81: comorbidities | C81: comments | D81: character varying | E81: Comments
A82: 80 | B82: comorbidities | C82: created_date | D82: timestamp with time zone | E82: Date record created
A83: 81 | B83: comorbidities | C83: created_user_id | D83: integer | E83: ID of User that created record
A84: 82 | B84: comorbidities | C84: created_user | D84: character varying | E84: Label ID of User that created record
A85: 83 | B85: comorbidities | C85: modified_date | D85: timestamp with time zone | E85: Date record last modified
A86: 84 | B86: comorbidities | C86: modified_user_id | D86: integer | E86: ID of User that last modified record
A87: 85 | B87: comorbidities | C87: modified_user | D87: character varying | E87: Label of ID of User that last modified record
A88: 86 | B88: diabetic-complications | C88: id | D88: uuid | E88: Unique ID of data item
A89: 87 | B89: diabetic-complications | C89: patient_id | D89: integer | E89: Unique patient radar identifier
A90: 88 | B90: diabetic-complications | C90: laser | D90: boolean | E90: Treated by Laser | F90: dependent on retinopathy variable indicating retinopathy
A91: 89 | B91: diabetic-complications | C91: foot ulcers | D91: boolean | E91: foot ulcers
A92: 90 | B92: diabetic-complications | C92: retinopathy | D92: integer | E92: Lookup | F92: "No"= 0;"Background Retinopathy"=1;"Proliferative Retinopathy"=2;"Retinopathy other"=3
A93: 91 | B93: diabetic-complications | C93: peripheral neuropathy | D93: boolean | E93: peripheral neuropathy
A94: 92 | B94: diabetic-complications | C94: created_date | D94: timestamp with time zone | E94: Date record created
A95: 93 | B95: diabetic-complications | C95: created_user_id | D95: integer | E95: ID of User that created record
A96: 94 | B96: diabetic-complications | C96: created_user | D96: character varying | E96: Label ID of User that created record
A97: 95 | B97: diabetic-complications | C97: modified_date | D97: timestamp with time zone | E97: Date record last modified
A98: 96 | B98: diabetic-complications | C98: modified_user_id | D98: integer | E98: ID of User that last modified record
A99: 97 | B99: diabetic-complications | C99: modified_user | D99: character varying | E99: Label of ID of User that last modified record
A100: 98 | B100: current-medications | C100: id | D100: uuid | E100: Unique ID of data item
A101: 99 | B101: current-medications | C101: patient_id | D101: integer | E101: Unique patient radar identifier
A102: 100 | B102: current-medications | C102: date_of_visit | D102: date | E102: date_of_visit
A103: 101 | B103: current-medications | C103: source_group_id | D103: integer | E103: ID of group where data originated from | F103: Lookup group.hospital and group.system | G103: Codelist Navigation
A104: 102 | B104: current-medications | C104: source_group | D104: character varying | E104: Label of ID of group where data originated from | F104: Lookup group.hospital and group.system | G104: Codelist Navigation
A105: 103 | B105: current-medications | C105: source_type | D105: character varying | E105: source_type | F105: RADAR or UKRDC
A106: 104 | B106: current-medications | C106: drug_id | D106: integer | E106: ID of drug | F106: Lookup drugs.drugs | G106: Codelist Navigation
A107: 105 | B107: current-medications | C107: drug | D107: character varying | E107: Label of drug id | F107: Lookup drugs.drugs | G107: Codelist Navigation
A108: 106 | B108: current-medications | C108: drug_text | D108: character varying | E108: drug_text
A109: 107 | B109: current-medications | C109: dose_quantity | D109: numeric | E109: dose_quantity
A110: 108 | B110: current-medications | C110: dose_unit | D110: character varying | E110: dose_unit | F110: Lookup drugs.dose_unit | G110: Codelist Navigation
A111: 109 | B111: current-medications | C111: dose_unit_label | D111: character varying | E111: dose_unit_label | F111: Lookup drugs.dose_unit | G111: Codelist Navigation
A112: 110 | B112: current-medications | C112: dose_text | D112: character varying | E112: dose_text
...

Sheet nav_target
A1: 20 | B1: primary_diagnoses | C1: 22
A2: 53 | B2: comorbidities | C2: 55 | K2: codelists
A3: 86 | B3: diabetic-complications | C3: 88
A4: 98 | B4: current-medications | C4: 100 | K4: Dialysis | L4: 3
A5: 120 | B5: family_histories | C5: 122 | K5: ipos | L5: 10
A6: 132 | B6: family_history_relatives | C6: 134 | K6: family-history | L6: 28
A7: 137 | B7: family-history | C7: 139 | K7: drugs | L7: 48
A8: 157 | B8: genetics | C8: 159 | K8: ins_relapses | L8: 235
A9: 174 | B9: results | C9: 176 | K9: Group | L9: 241
A10: 190 | B10: samples | C10: 192 | K10: Transplants | L10: 414
A11: 200 | B11: pathology | C11: 202 | K11: diagnosis | L11: 426
A12: 219 | B12: 6cit | C12: 221 | K12: genetics | L12: 430
A13: 235 | B13: chu9d | C13: 237 | K13: plasmapheresis | L13: 434
A14: 253 | B14: eq-5d-5l | C14: 255 | K14: patient_demographics | L14: 446
A15: 270 | B15: eq-5d-y | C15: 272 | K15: eq-5d-5l | L15: 463
A16: 286 | B16: hads | C16: 288 | K16: eq-5d-y | L16: 488
A17: 311 | B17: ipos | C17: 313
A18: 346 | B18: renal_progressions | C18: 348
A19: 360 | B19: socio-economic | C19: 362
A20: 381 | B20: visits | C20: 383
A21: 409 | B21: hospitalisations | C21: 411
A22: 424 | B22: ins_relapses | C22: 426
A23: 450 | B23: plasmapheresis | C23: 452
A24: 467 | B24: dialysis | C24: 469
A25: 482 | B25: transplants | C25: 484
A26: 503 | B26: transplant_biopsies | C26: 505
A27: 507 | B27: transplant_rejections | C27: 509
A28: 511 | B28: ins_clinical_pictures | C28: 513
... A30: 557 | B30: patient_demographics | C30: 559
A31: 582 | B31: patients | C31: 584 | F31: group_patients is db table name
A32: 597 | B32: patient_addresses | C32: 599
A33: 615 | B33: patient_aliases | C33: 617
A34: 628 | B34: patient_numbers | C34: 630
A35: 642 | B35: alport_clinical_pictures | C35: 644
A36: 652 | B36: salt_wasting_clinical_features | C36: 654
A37: 672 | B37: hnf1b_clinical_pictures | C37: 674
A38: 685 | B38: fuan_clinical_pictures | C38: 687
A39: 699 | B39: ins_clinical_pictures | C39: 701
A40: 720 | B40: mpgn_clinical_pictures | C40: 722
A41: 736 | B41: nephrectomies | C41: 738
A42: 748 | B42: nutrition | C42: 750
A43: 759 | B43: pregnancies | C43: 761
... A54: 966 | B54: clinical_picture_igna | C54: 2

Sheet Cohort_list
A1: Group
A2: Alport Syndrome
A3: APRT Deficiency
A4: Atypical Haemolytic Uraemic Syndrome
A5: Autosomal Dominant Polycystic Kidney Disease
A6: Autosomal Dominant Tubulointerstitial Kidney Disease (FUAN)
A7: Autosomal Recessive Polycystic Kidney Disease/Nephronophthisis
A8: BK Nephropathy
A9: Calciphylaxis
A10: Cystinosis
A11: Cystinuria
A12: Dent Disease and Lowe Syndrome
... A30: Vasculitis

Sheet cohort_tables
A1: Id | B1: Group | C1: Page | D1: Weight
A2: 1 | B2: Alport Syndrome | C2: patients | D2: 1
A3: 1 | B3: Alport Syndrome | C3: patient_demographics | D3: 2
A4: 1 | B4: Alport Syndrome | C4: primary_diagnoses | D4: 3
A5: 1 | B5: Alport Syndrome | C5: consents | D5: 5
A6: 1 | B6: Alport Syndrome | C6: consultants | D6: 6
A7: 1 | B7: Alport Syndrome | C7: family_histories | D7: 7
A8: 1 | B8: Alport Syndrome | C8: family_history_relatives | D8: 8
A9: 1 | B9: Alport Syndrome | C9: results | D9: 9
A10: 1 | B10: Alport Syndrome | C10: medications | D10: 10
A11: 1 | B11: Alport Syndrome | C11: genetics | D11: 11
A12: 1 | B12: Alport Syndrome | C12: alport_clinical_pictures | D12: 13
A13: 44 | B13: Atypical Haemolytic Uraemic Syndrome | C13: patients | D13: 1
... A338: 112 | B338: Vasculitis | C338: transplants | D338: 34

Sheet definitions
A1: mapped name | B1: mapped name definition
A2: patients | B2: recruitment details, ethnicity, gender
A3: patient_demographics | B3: ethnicity, gender
A4: primary_diagnoses | B4: primary diagnoses for patient cohorts
A5: comorbidities | B5: secondary diagnoses for patient
A6: consents | B6: patient consents
A7: consultants | B7: list of consultants with name and contact details
A8: family_histories | B8: family history of the condition
A9: family_history_relatives | B9: details of relatives with family history if the condition
A10: results | B10: Lab results and observations from PV
A11: medications | B11: medications from PV
A12: genetics | B12: genetics
... A51: ipos | B51: questionnaire

Sheet Lookups
A1: <<<Back to Codelist Navigation
A2: # | B2: Groups | C2: field | D2: ID | E2: Label
A3: 1 | B3: Dialysis | C3: modality | D3: 1 | E3: Haemodialysis
A4: 2 | B4: Dialysis | C4: modality | D4: 3 | E4: Haemodiafiltration
A5: 3 | B5: Dialysis | C5: modality | D5: 5 | E5: Ultrafiltration
A6: 4 | B6: Dialysis | C6: modality | D6: 11 | E6: CAPD
A7: 5 | B7: Dialysis | C7: modality | D7: 12 | E7: APD
A8: 6 | B8: Dialysis | C8: modality | D8: 19 | E8: Peritoneal Dialysis - Type Unknown
A9: 7 | B9: Dialysis | C9: modality | D9: 201 | E9: Hybrid CAPD with HD
A10: 8 | B10: ipos | C10: select | D10: 0 | E10: No Answer
A11: 9 | B11: ipos | C11: select | D11: 1 | E11: Pain
A12: 10 | B12: ipos | C12: select | D12: 2 | E12: Shortness of breath
A13: 11 | B13: ipos | C13: select | D13: 3 | E13: Weakness or lack of energy
A14: 12 | B14: ipos | C14: select | D14: 4 | E14: Nausea (feeling like you are going to be sick)
... A217: 215 | B217: drugs | C217: drugs | D217: 259 | E217: Adapaline
A218: 216 | B218: drugs | C218: dose_unit | D218: UNIT | E218: unit
A219: 217 | B219: drugs | C219: dose_unit | D219: ML | E219: ml
A220: 218 | B220: drugs | C220: dose_unit | D220: MMOL | E220: mmol
A221: 219 | B221: drugs | C221: dose_unit | D221: NG | E221: ng
A222: 220 | B222: drugs | C222: dose_unit | D222: PUFF | E222: puff
A223: 221 | B223: drugs | C223: dose_unit | D223: UG | E223: ug
A224: 222 | B224: drugs | C224: dose_unit | D224: G | E224: g
A225: 223 | B225: drugs | C225: dose_unit | D225: MG | E225: mg
A226: 224 | B226: drugs | C226: dose_unit | D226: IU | E226: IU
A227: 225 | B227: drugs | C227: route | D227: TOPICAL | E227: Topical
A228: 226 | B228: drugs | C228: route | D228: ORAL | E228: Oral
A229: 227 | B229: drugs | C229: route | D229: IM | E229: Intramuscular
... A240: 238 | B240: ins_relapses | C240: protein_dipstick | D240: TRACE | E240: Trace
A241: 239 | B241: Group | C241: COHORT | D241: 1 | E241: Alport Syndrome
A242: 240 | B242: Group | C242: COHORT | D242: 2 | E242: APRT Deficiency
A243: 241 | B243: Group | C243: COHORT | D243: 3 | E243: Autosomal Dominant Polycystic Kidney Disease
A244: 242 | B244: Group | C244: COHORT | D244: 4 | E244: Autosomal Recessive Polycystic Kidney Disease/Nephronophthisis
A245: 243 | B245: Group | C245: COHORT | D245: 5 | E245: Atypical Haemolytic Uraemic Syndrome
A246: 244 | B246: Group | C246: COHORT | D246: 6 | E246: Calciphylaxis
A247: 245 | B247: Group | C247: COHORT | D247: 7 | E247: Cystinosis
A248: 246 | B248: Group | C248: COHORT | D248: 8 | E248: Cystinuria
A249: 247 | B249: Group | C249: COHORT | D249: 9 | E249: Dent Disease and Lowe Syndrome
A250: 248 | B250: Group | C250: COHORT | D250: 10 | E250: Autosomal Dominant Tubulointerstitial Kidney Disease (FUAN)
A251: 249 | B251: Group | C251: COHORT | D251: 11 | E251: HNF1b Mutations
A252: 250 | B252: Group | C252: COHORT | D252: 12 | E252: Hyperoxaluria
... A433: 431 | B433: genetics | C433: karyotype | D433: 9 | E433: Not Done
A434: 432 | B434: plasmapheresis | C434: no_of_exchanges | D434: 1/1D | E434: Daily
A435: 433 | B435: plasmapheresis | C435: no_of_exchanges | D435: 1/1W | E435: x1 / week
A436: 434 | B436: plasmapheresis | C436: no_of_exchanges | D436: 1/2W | E436: x1 / 2 weeks
A437: 435 | B437: plasmapheresis | C437: no_of_exchanges | D437: 1/4W | E437: x1 / 4 weeks
A438: 436 | B438: plasmapheresis | C438: no_of_exchanges | D438: 2/1W | E438: x2 / week
A439: 437 | B439: plasmapheresis | C439: no_of_exchanges | D439: 3/1W | E439: x3 / week
A440: 438 | B440: plasmapheresis | C440: no_of_exchanges | D440: 4/1W | E440: x4 / week
A441: 439 | B441: plasmapheresis | C441: no_of_exchanges | D441: 5/1W | E441: x5 / week
A442: 440 | B442: plasmapheresis | C442: response | D442: COMPLETE | E442: Complete
A443: 441 | B443: plasmapheresis | C443: response | D443: NONE | E443: None
A444: 442 | B444: plasmapheresis | C444: response | D444: PARTIAL | E444: Partial
A445: 443 | B445: plasmapheresis | C445: response | D445: PREEMTIVE | E445: Preemptive
... A462: 460 | B462: patient_demographics | C462: ethnicity | D462: Refused / Not Stated | E462: Refused / Not Stated
A463: 461 | B463: eq-5d-5l | C463: Mobility | D463: 1 | E463: I have no problems in walking about
A464: 462 | B464: eq-5d-5l | C464: Mobility | D464: 2 | E464: I have slight problems in walking about
A465: 463 | B465: eq-5d-5l | C465: Mobility | D465: 3 | E465: I have moderate problems in walking about
A466: 464 | B466: eq-5d-5l | C466: Mobility | D466: 4 | E466: I have severe problems in walking about
A467: 465 | B467: eq-5d-5l | C467: Mobility | D467: 5 | E467: I am unable to walk about
A468: 466 | B468: eq-5d-5l | C468: self care | D468: 1 | E468: I have no problems washing or dressing myself
A469: 467 | B469: eq-5d-5l | C469: self care | D469: 2 | E469: I have slight problems washing or dressing myself
A470: 468 | B470: eq-5d-5l | C470: self care | D470: 3 | E470: I have moderate problems washing or dressing myself
A471: 469 | B471: eq-5d-5l | C471: self care | D471: 4 | E471: I have severe problems washing or dressing myself
A472: 470 | B472: eq-5d-5l | C472: self care | D472: 5 | E472: I am unable to wash or dress myself
A473: 471 | B473: eq-5d-5l | C473: pain discomfort | D473: 1 | E473: I have no pain or discomfort
A474: 472 | B474: eq-5d-5l | C474: pain discomfort | D474: 2 | E474: I have slight pain or discomfort
... A502: 500 | B502: eq-5d-y | C502: anxiety depression | D502: 3 | E502: I am very worried, sad or unhappy
